BEGIN:VCALENDAR
VERSION:2.0
PRODID:-//Réseau Éducation Sans Frontières Hautes-Pyrénées - ECPv6.15.11//NONSGML v1.0//EN
CALSCALE:GREGORIAN
METHOD:PUBLISH
X-ORIGINAL-URL:https://www.resf65.fr
X-WR-CALDESC:Évènements pour Réseau Éducation Sans Frontières Hautes-Pyrénées
REFRESH-INTERVAL;VALUE=DURATION:PT1H
X-Robots-Tag:noindex
X-PUBLISHED-TTL:PT1H
BEGIN:VTIMEZONE
TZID:Europe/Paris
BEGIN:DAYLIGHT
TZOFFSETFROM:+0100
TZOFFSETTO:+0200
TZNAME:CEST
DTSTART:20150329T010000
END:DAYLIGHT
BEGIN:STANDARD
TZOFFSETFROM:+0200
TZOFFSETTO:+0100
TZNAME:CET
DTSTART:20151025T010000
END:STANDARD
BEGIN:DAYLIGHT
TZOFFSETFROM:+0100
TZOFFSETTO:+0200
TZNAME:CEST
DTSTART:20160327T010000
END:DAYLIGHT
BEGIN:STANDARD
TZOFFSETFROM:+0200
TZOFFSETTO:+0100
TZNAME:CET
DTSTART:20161030T010000
END:STANDARD
BEGIN:DAYLIGHT
TZOFFSETFROM:+0100
TZOFFSETTO:+0200
TZNAME:CEST
DTSTART:20170326T010000
END:DAYLIGHT
BEGIN:STANDARD
TZOFFSETFROM:+0200
TZOFFSETTO:+0100
TZNAME:CET
DTSTART:20171029T010000
END:STANDARD
END:VTIMEZONE
BEGIN:VEVENT
DTSTART;TZID=Europe/Paris:20160125T140000
DTEND;TZID=Europe/Paris:20160125T190000
DTSTAMP:20260423T182141
CREATED:20150926T223534Z
LAST-MODIFIED:20151214T124302Z
UID:153-1453730400-1453748400@www.resf65.fr
SUMMARY:Quel accueil et quelle place pour « ces jeunes d’ici venus d’ailleurs »
DESCRIPTION:  \nAccueil à partir de 13h45à la Bourse du travail\, Place des droits de l’homme à Tarbes \n14h : Conférence de Daniel Sénovilla\, juriste\, chercheur post doctoral à Migrinter\, à l’université de Poitiers\, responsable  d’un observatoire de la Migration des Mineurs et d’un projet de recherche  autour de la notion d’intérêt supérieur de l’enfant appliqué aux mineurs migrants en France et en Europe dans le cadre du projet européen Minas. \nÉchanges avec le public \n15h30 : Table ronde avec les acteurs locaux impliqués autour de l’accueil et de l’accompagnement des MIE  \n– M D. Escots : Responsable des services de l’Aide Sociale à l’Enfance (ASE) des Hautes Pyrénées \n– Mme S.Castay : Inspectrice de l’information et de l’orientation à l’Inspection Académique des Hautes Pyrénées \n– M G. Brugères : Directeur de la Maison d’Enfants Lamon- A. Fournet  \n– M JP. Machado : Directeur de la Maison d’Enfants Saint-Joseph \nÉchanges avec le public \n*D’autres interventions sont possibles dans la construction de cette Après-midi qui se veut un temps d’échanges et de formation autour des dispositifs d’accueil et d’accompagnement. \nOuvert à tous élus\, professionnels\, militants associatifs\, citoyens\, … \n 
URL:https://www.resf65.fr/event/paroles-de-m-i-e-2/
LOCATION:Bourse du travail\, Place des Droits de l'Homme\, Tarbes\, 65000\, France
CATEGORIES:Quelle enfance pour les filles et fils de migrants ?
ORGANIZER;CN="RESF 65":MAILTO:resf65@no-log.org
END:VEVENT
END:VCALENDAR