BEGIN:VCALENDAR
VERSION:2.0
PRODID:-//Réseau Éducation Sans Frontières Hautes-Pyrénées - ECPv6.15.11//NONSGML v1.0//EN
CALSCALE:GREGORIAN
METHOD:PUBLISH
X-WR-CALNAME:Réseau Éducation Sans Frontières Hautes-Pyrénées
X-ORIGINAL-URL:https://www.resf65.fr
X-WR-CALDESC:Évènements pour Réseau Éducation Sans Frontières Hautes-Pyrénées
REFRESH-INTERVAL;VALUE=DURATION:PT1H
X-Robots-Tag:noindex
X-PUBLISHED-TTL:PT1H
BEGIN:VTIMEZONE
TZID:Europe/Paris
BEGIN:DAYLIGHT
TZOFFSETFROM:+0100
TZOFFSETTO:+0200
TZNAME:CEST
DTSTART:20150329T010000
END:DAYLIGHT
BEGIN:STANDARD
TZOFFSETFROM:+0200
TZOFFSETTO:+0100
TZNAME:CET
DTSTART:20151025T010000
END:STANDARD
BEGIN:DAYLIGHT
TZOFFSETFROM:+0100
TZOFFSETTO:+0200
TZNAME:CEST
DTSTART:20160327T010000
END:DAYLIGHT
BEGIN:STANDARD
TZOFFSETFROM:+0200
TZOFFSETTO:+0100
TZNAME:CET
DTSTART:20161030T010000
END:STANDARD
BEGIN:DAYLIGHT
TZOFFSETFROM:+0100
TZOFFSETTO:+0200
TZNAME:CEST
DTSTART:20170326T010000
END:DAYLIGHT
BEGIN:STANDARD
TZOFFSETFROM:+0200
TZOFFSETTO:+0100
TZNAME:CET
DTSTART:20171029T010000
END:STANDARD
END:VTIMEZONE
BEGIN:VEVENT
DTSTART;TZID=Europe/Paris:20160121T181000
DTEND;TZID=Europe/Paris:20160121T190000
DTSTAMP:20260423T181647
CREATED:20150926T182922Z
LAST-MODIFIED:20160424T175406Z
UID:105-1453399800-1453402800@www.resf65.fr
SUMMARY:Conférence : Français Langue Étrangère
DESCRIPTION:Conférence sur l’apprentissage d’une langue d’un pays d’accueil\, le rôle de la langue dans la structuration de l’enfant de migrants réalisée par Pierre Escudé Professeur des Universités en Didactique des Langues à l’Université de Bordeaux et à l’ESPE d’Aquitaine  ESPE d’Aquitaine / Université de Bordeaux qui répondra ensuite à nos questions. \nRésumé : On parle beaucoup de « migrants »\, et de plus en plus « d’intégration » en termes de problèmes\, plus que de problématique. L’équation : une nation\, un état\, une langue\, semble revenir en force\, pour le meilleur et pour le pire. Or\, dans le cas de la scolarisation des enfants nouvellement arrivés en France (ENAF)\, la problématique langagière est fondamentale. Nous verrons pourquoi. Qu’est-ce que le langage? Qu’est-ce que la/les langues? Peut-on construire en plusieurs langues? Quel est la relation entre langues\, apprentissages\, inclusion et réussite scolaire et … sociale? Quels sont les circuits scolaires en place pour l’accueil et la structuration des enfants de migrants? Que se passe t-il à l’école? Plus encore\, que se passe t-il dans la tête des enfants migrants qui permet finalement dans un nombre de cas très majoritaire de réussir tous les enjeux de l’inclusion scolaire? \nÀ écouter ici :
URL:https://www.resf65.fr/event/francais-langue-etrangere/
LOCATION:Maison des associations\, 4 bis Quai de l'Adour\, Tarbes\, 65000\, France
CATEGORIES:Quelle enfance pour les filles et fils de migrants ?
ORGANIZER;CN="RESF 65":MAILTO:resf65@no-log.org
END:VEVENT
BEGIN:VEVENT
DTSTART;TZID=Europe/Paris:20160121T190000
DTEND;TZID=Europe/Paris:20160121T203000
DTSTAMP:20260423T181647
CREATED:20150926T193439Z
LAST-MODIFIED:20160420T093957Z
UID:115-1453402800-1453408200@www.resf65.fr
SUMMARY:Enseigner dans une classe de FLE
DESCRIPTION:Des enseignantes nous font vivre leur quotidien auprès des enfants migrants apprenant le français ! \nPour faire suite à la conférence de Pierre Escudé\, elles nous donneront à comprendre leurs « méthodes de travail »\, projets\, etc à partir de productions d’élèves….\n\nElles s’attachent à expliquer leurs choix d’enseignement pour permettre à leurs élèves de s’ancrer dans la langue française tout en restant en contact avec la leur. \n\nÀ écouter ci-dessous :
URL:https://www.resf65.fr/event/enseigner-dans-une-classe-de-fle/
LOCATION:Bourse du travail\, Place des Droits de l'Homme\, Tarbes\, 65000\, France
CATEGORIES:Quelle enfance pour les filles et fils de migrants ?
ORGANIZER;CN="RESF 65":MAILTO:resf65@no-log.org
END:VEVENT
END:VCALENDAR