BEGIN:VCALENDAR
VERSION:2.0
PRODID:-//Réseau Éducation Sans Frontières Hautes-Pyrénées - ECPv6.15.11//NONSGML v1.0//EN
CALSCALE:GREGORIAN
METHOD:PUBLISH
X-WR-CALNAME:Réseau Éducation Sans Frontières Hautes-Pyrénées
X-ORIGINAL-URL:https://www.resf65.fr
X-WR-CALDESC:Évènements pour Réseau Éducation Sans Frontières Hautes-Pyrénées
REFRESH-INTERVAL;VALUE=DURATION:PT1H
X-Robots-Tag:noindex
X-PUBLISHED-TTL:PT1H
BEGIN:VTIMEZONE
TZID:Europe/Paris
BEGIN:DAYLIGHT
TZOFFSETFROM:+0100
TZOFFSETTO:+0200
TZNAME:CEST
DTSTART:20150329T010000
END:DAYLIGHT
BEGIN:STANDARD
TZOFFSETFROM:+0200
TZOFFSETTO:+0100
TZNAME:CET
DTSTART:20151025T010000
END:STANDARD
BEGIN:DAYLIGHT
TZOFFSETFROM:+0100
TZOFFSETTO:+0200
TZNAME:CEST
DTSTART:20160327T010000
END:DAYLIGHT
BEGIN:STANDARD
TZOFFSETFROM:+0200
TZOFFSETTO:+0100
TZNAME:CET
DTSTART:20161030T010000
END:STANDARD
BEGIN:DAYLIGHT
TZOFFSETFROM:+0100
TZOFFSETTO:+0200
TZNAME:CEST
DTSTART:20170326T010000
END:DAYLIGHT
BEGIN:STANDARD
TZOFFSETFROM:+0200
TZOFFSETTO:+0100
TZNAME:CET
DTSTART:20171029T010000
END:STANDARD
END:VTIMEZONE
BEGIN:VEVENT
DTSTART;TZID=Europe/Paris:20160116T100000
DTEND;TZID=Europe/Paris:20160130T210000
DTSTAMP:20260423T103748
CREATED:20150919T192128Z
LAST-MODIFIED:20151106T193544Z
UID:34-1452938400-1454187600@www.resf65.fr
SUMMARY:"Migrants" de DjeBel
DESCRIPTION:L’exposition sera aussi visible le 22 janvier à La Gespe lors de la restitution des écrits de Migrants qui apprennent le français dans les cours organisés par la Cimade.     \nMigrants. \nTu es là\, assis sur ta valise. Tu te demandes si tu dois partir\, quitter ce pays qui t’a vu naître. Ce pays\, tu l’aimes\, c’est la terre de tes ancêtres et pourtant\, aujourd’hui\, il t’est devenu invivable. Tu as pris ton baluchon. Tu vas traverser des contrées inhospitalières\, subir toutes les humiliations. Tu donneras\, à un passeur sans scrupules\, le peu d’argent que tu as pu collecter\, économies\, dons de ta famille ou de tes amis. Tous ceux qui pensent que c’est une chance de partir vers cet eldorado européen. Tu arrives face à un grillage. Terminus ou porte vers une nouvelle vie. Et quelle vie !  \nTu sais ce que tu viens de quitter. Un pays et son régime autoritaire. Un pays en guerre réduit à une guerre civile\, ethnique\, religieuse. Un pays dont la terre n’est plus capable de te donner le minimum de subsistance. Un pays où tu ne peux plus vivre. Et quelle vie\, maintenant ! Traverser cette mer. Y périr ? Finir dans un centre de rétention\, dans une « jungle ». Y périr ? Pénétrer dans ce tunnel. Y périr ? \n……..  Djebel\, artiste plasticien\, n’est pas là pour apporter une réponse\, ni même une solution. À travers sa série « Les migrants »\, il s’interroge sur ce monde\, il interroge le monde. Il se définit\, – et n’est-ce pas le rôle de tout artiste –\, simplement\, comme observateur critique\, un passeur d’idées.Entamée depuis plusieurs années\, la série « Les migrants » renvoie le spectateur à ses propres contradictions\, à ses propres interrogations. Que voir ? Que faire ?  \nRendre visible l’invisible. Rendre visibles les invisibles.
URL:https://www.resf65.fr/event/exposition-migrants-djebel/
LOCATION:Bourse du travail\, Place des Droits de l'Homme\, Tarbes\, 65000\, France
CATEGORIES:Les chemins de la migration
ORGANIZER;CN="RESF 65":MAILTO:resf65@no-log.org
END:VEVENT
BEGIN:VEVENT
DTSTART;TZID=Europe/Paris:20160116T140000
DTEND;TZID=Europe/Paris:20160129T230000
DTSTAMP:20260423T103748
CREATED:20150926T214427Z
LAST-MODIFIED:20151215T080154Z
UID:145-1452952800-1454108400@www.resf65.fr
SUMMARY:Flux migratoires\, flux oratoires : paroles d'enfants\, paroles d'ados...
DESCRIPTION:Parce que le sujet de la migration nous concerne et nous touche tous… \nDes paroles d’élèves entendues et recueillies\, des éléments d’information apportés par des enseignants… \nUne exposition pour que les questions et les réactions de nos enfants et nos adolescents ne restent pas sans réponse. \nA l’occasion de la Quinzaine des migrants\, la CGT Educ’Action 65 vous invite à découvrir Flux migratoires\, flux oratoires : paroles d’enfants\, paroles d’ados…\, une exposition en 8 panneaux\, dans le hall de la Bourse du travail.
URL:https://www.resf65.fr/event/journal-de-classes-regards-sur-les-migrants/
LOCATION:Bourse du travail\, Place des Droits de l'Homme\, Tarbes\, 65000\, France
CATEGORIES:Les chemins de la migration
END:VEVENT
END:VCALENDAR